BEGIN:VCALENDAR
VERSION:2.0
PRODID:-//ChamberMaster//Event Calendar 2.0//EN
METHOD:PUBLISH
X-PUBLISHED-TTL:P3D
REFRESH-INTERVAL:P3D
CALSCALE:GREGORIAN
BEGIN:VEVENT
DTSTART:20241026T153000Z
DTEND:20241026T170000Z
X-MICROSOFT-CDO-ALLDAYEVENT:FALSE
SUMMARY:City Of Hazelwood Rotten Pumpkin Obstacle Course
DESCRIPTION:The Rotten Pumpkin Obstacle Course Race Saturday October 26th\, 2024 at 10:30am at Truman Park in Hazelwood\, MO Register at www.hazelwoodmo.org/ParksandRecRegister
X-ALT-DESC;FMTTYPE=text/html:The Rotten Pumpkin Obstacle Course Race Saturday October 26th\, 2024 at 10:30am at Truman Park in Hazelwood\, MO&nbsp\;Register at www.hazelwoodmo.org/ParksandRecRegister
LOCATION:Truman Park in Hazelwood\, MO
UID:e.1302.21237
SEQUENCE:3
DTSTAMP:20260421T115532Z
URL:https://public.greaternorthcountychamber.com/events/details/city-of-hazelwood-rotten-pumpkin-obstacle-course-21237
END:VEVENT

END:VCALENDAR
