BEGIN:VCALENDAR
VERSION:2.0
PRODID:-//ChamberMaster//Event Calendar 2.0//EN
METHOD:PUBLISH
X-PUBLISHED-TTL:P3D
REFRESH-INTERVAL:P3D
CALSCALE:GREGORIAN
BEGIN:VEVENT
DTSTART:20240831T004500Z
DTEND:20240831T030000Z
X-MICROSOFT-CDO-ALLDAYEVENT:FALSE
SUMMARY:City Of Hazelwood Movie In the Park
DESCRIPTION:Join us for a Friday Night Flick at Musick Park. "Teenage Mutant Ninja Turtles- Mutant Mayhem" will be the featured film. Bring your lawn chairs\, blankets\, snacks and refreshments\, and maybe bug spray. Free to enjoy. The movie will begin as soon as it is dark enough. Location: Musick Park\, near the spray ground Day: Friday\, 8/30 l Time: 7:45p.m
X-ALT-DESC;FMTTYPE=text/html:Join us for a Friday Night Flick at Musick Park. &ldquo\;Teenage Mutant Ninja Turtles- Mutant Mayhem&rdquo\; will be the featured film. Bring your lawn chairs\, blankets\, snacks and refreshments\, and maybe bug spray. Free to enjoy. The movie will begin as soon as it is dark enough. Location: Musick Park\, near the spray ground Day: Friday\, 8/30 l Time: 7:45p.m
LOCATION:Musick Park 8617 Latty Ave\, Hazelwood\, MO 63042\, near the spray ground
UID:e.1302.21234
SEQUENCE:3
DTSTAMP:20260421T144544Z
URL:https://public.greaternorthcountychamber.com/events/details/city-of-hazelwood-movie-in-the-park-21234
END:VEVENT

END:VCALENDAR
