BEGIN:VCALENDAR
VERSION:2.0
PRODID:-//ChamberMaster//Event Calendar 2.0//EN
METHOD:PUBLISH
X-PUBLISHED-TTL:P3D
REFRESH-INTERVAL:P3D
CALSCALE:GREGORIAN
BEGIN:VEVENT
DTSTART:20240817T170000Z
DTEND:20240817T210000Z
X-MICROSOFT-CDO-ALLDAYEVENT:FALSE
SUMMARY:City of Dellwood Back to School Skating Festival
DESCRIPTION:Join the City Of Dellwood for the 2nd Annual Back to School Skating Festival on Saturday August 17th\, 2024 from 12pm-4pm at the Dellwood Skate Park located at 10266 W. Florissant Ave\, St. Louis\, MO 63136. There will be free school supplies\, food\, health resources\, vendors\, and lot's of fun!
X-ALT-DESC;FMTTYPE=text/html:Join the City Of Dellwood for the 2nd Annual Back to School Skating Festival on Saturday August 17th\, 2024 from 12pm-4pm at the Dellwood Skate Park located at 10266 W. Florissant Ave\, St. Louis\, MO 63136. There will be free school supplies\, food\, health resources\, vendors\, and lot&#39\;s of fun!
LOCATION:Dellwood Skate Park located at 10266 W. Florissant Ave\, St. Louis\, MO 63136
UID:e.1302.21227
SEQUENCE:3
DTSTAMP:20260421T133821Z
URL:https://public.greaternorthcountychamber.com/events/details/city-of-dellwood-back-to-school-skating-festival-21227
END:VEVENT

END:VCALENDAR
