BEGIN:VCALENDAR
VERSION:2.0
PRODID:-//ChamberMaster//Event Calendar 2.0//EN
METHOD:PUBLISH
X-PUBLISHED-TTL:P3D
REFRESH-INTERVAL:P3D
CALSCALE:GREGORIAN
BEGIN:VEVENT
DTSTART:20241029T210000Z
DTEND:20241029T230000Z
X-MICROSOFT-CDO-ALLDAYEVENT:FALSE
SUMMARY:Christian Hospital Auxiliary Social
DESCRIPTION:Please join us at the Christian Hospital Auxiliary Social on October 29\, 2024\, in the Paul F. Detrick Atrium 4:00-6:00 p.m. Discover all the great work the Auxiliary does behind the scenes at the hospital\, meet the new Board members\, hear about opportunities for involvement on the board or committees\, or just join us for hors d'oeuvres and show your support to your community hospital. We welcome the opportunity to meet you! RSVP required by Tuesday\, October 22 to the Auxiliary Office at 314.653.5634.
X-ALT-DESC;FMTTYPE=text/html:Please join us at the Christian Hospital Auxiliary Social on October 29\, 2024\, in the Paul F. Detrick Atrium 4:00-6:00 p.m. Discover all the great work the Auxiliary does behind the scenes at the hospital\, meet the new Board members\, hear about opportunities for involvement on the board or committees\, or just join us for hors d&rsquo\;oeuvres and show your support to your community hospital. We welcome the opportunity to meet you! RSVP required by Tuesday\, October 22 to the Auxiliary Office at 314.653.5634.
LOCATION:Paul F. Detrick Atrium\, 11135 Dunn Rd\, St. Louis\, MO 63136
UID:e.1302.21290
SEQUENCE:3
DTSTAMP:20260421T114507Z
URL:https://public.greaternorthcountychamber.com/events/details/christian-hospital-auxiliary-social-21290
END:VEVENT

END:VCALENDAR
