BEGIN:VCALENDAR
VERSION:2.0
PRODID:-//ChamberMaster//Event Calendar 2.0//EN
METHOD:PUBLISH
X-PUBLISHED-TTL:P3D
REFRESH-INTERVAL:P3D
CALSCALE:GREGORIAN
BEGIN:VEVENT
DTSTART:20240913T233000Z
DTEND:20240914T023000Z
X-MICROSOFT-CDO-ALLDAYEVENT:FALSE
SUMMARY:Cholley Home Run Derby
DESCRIPTION:Come and hit some bombs under the lights at St. Ferdinand Park softball fields. There will be a DJ\, food trucks\, and special prizes for various categories. Bracket style tournament. See how many runs you can hit! Players are required to supply their own bat and pitcher\, balls will be provided.
X-ALT-DESC;FMTTYPE=text/html:Come and hit some bombs under the lights at St. Ferdinand Park softball fields. There will be a DJ\, food trucks\, and special prizes for various categories. Bracket style tournament. See how many runs you can hit! Players are required to supply their own bat and pitcher\, balls will be provided.
LOCATION:St. Ferdinand Park softball fields
UID:e.1302.21240
SEQUENCE:3
DTSTAMP:20260421T115924Z
URL:https://public.greaternorthcountychamber.com/events/details/cholley-home-run-derby-21240
END:VEVENT

END:VCALENDAR
