BEGIN:VCALENDAR
VERSION:2.0
PRODID:-//ChamberMaster//Event Calendar 2.0//EN
METHOD:PUBLISH
X-PUBLISHED-TTL:P3D
REFRESH-INTERVAL:P3D
CALSCALE:GREGORIAN
BEGIN:VEVENT
DTSTART:20241102T000000Z
DTEND:20241102T040000Z
X-MICROSOFT-CDO-ALLDAYEVENT:FALSE
SUMMARY:Catering to You Annual Halloween Spooktacular
DESCRIPTION:Enjoy Ghoulish Grooves and Spooky Tunes on Friday November 1st\, 2024 from 7-11pm at Catering to You\, located at 12775 New Halls Ferry Rd\, Florissant\, MO 63033.\n\nFull dinner\, open bar\, live music by the Breakdowns\, and The Ford Rangers Band\, professional photography by Kent Miller Photography\, and costume contest with prizes!
X-ALT-DESC;FMTTYPE=text/html:Enjoy Ghoulish Grooves and Spooky Tunes on Friday November 1st\, 2024 from 7-11pm at Catering to You\, located at 12775 New Halls Ferry Rd\, Florissant\, MO 63033.<br />\nFull dinner\, open bar\, live music by the Breakdowns\, and The Ford Rangers Band\, professional photography by Kent Miller Photography\, and costume contest with prizes!
LOCATION:Catering to You\, located at 12775 New Halls Ferry Rd\, Florissant\, MO 63033.
UID:e.1302.21283
SEQUENCE:3
DTSTAMP:20260419T182243Z
URL:https://public.greaternorthcountychamber.com/events/details/catering-to-you-annual-halloween-spooktacular-21283
END:VEVENT

END:VCALENDAR
