BEGIN:VCALENDAR
VERSION:2.0
PRODID:-//ChamberMaster//Event Calendar 2.0//EN
METHOD:PUBLISH
X-PUBLISHED-TTL:P3D
REFRESH-INTERVAL:P3D
CALSCALE:GREGORIAN
BEGIN:VEVENT
DTSTART:20240920T230000Z
DTEND:20240921T020000Z
X-MICROSOFT-CDO-ALLDAYEVENT:FALSE
SUMMARY:Caring Solutions Rock and Roll BINGO!
DESCRIPTION:Get ready to rock\, roll\, and win big at the\n\nCaring Solutions Rock and Roll BINGO!\n\nJam to classic tunes and new favorites as you play for\n\nprizes and support our individuals. \n\nSharing guesses allowed . . . as is singing along! \n\nRegister here to attend on Friday\, Sept. 20th and/or participate in SILENT AUCTION!\n\nWinning bidders not attending can pick up items following week.\n\n6 pm Doors OPEN      7 pm START\n\nBring your own food\, appetizers and beverages!\n\nLimited complimentary snacks\, soda\, water and beer will be provided.\n\nCostume Contest -- Prizes for Best Dressed to the Rock and Roll theme!\n\n \n\nQuestions? 314.942.7350 or info@caringsolutions.org\n\nServices By Design\, Inc. dba Caring Solutions is a 501(c)(3) nonprofit organization \n\nproviding services to children and adults with intellectual and developmental disabilities
X-ALT-DESC;FMTTYPE=text/html:<h2 style="text-align:center"><span style="color:rgb(0\, 0\, 0)">Get ready to rock\, roll\, and win big at the</span><br />\n<span style="color:rgb(0\, 0\, 0)">Caring Solutions Rock and Roll BINGO!</span></h2>\n\n<h2 style="text-align:center"><span style="color:rgb(0\, 0\, 0)">Jam to classic tunes and new favorites as you play for<br />\nprizes and support our individuals.&nbsp\;</span></h2>\n\n<p style="text-align:center">Sharing guesses allowed . . .&nbsp\;<em>as is singing along!</em>&nbsp\;</p>\n\n<h3 style="text-align:center"><span style="color:rgb(0\, 0\, 0)">Register </span><strong><a href="https://RRBingo.givesmart.com"><span style="color:#0000CD">here </span></a></strong><span style="color:rgb(0\, 0\, 0)">to attend on Friday\, Sept. 20th&nbsp\;<em>and/or</em>&nbsp\;participate in SILENT AUCTION!</span></h3>\n\n<p style="text-align:center"><em><span style="color:rgb(0\, 0\, 0)">Winning bidders not attending can pick up items following week.</span></em></p>\n\n<h3 style="text-align:center"><span style="color:rgb(0\, 0\, 0)">6 pm Doors OPEN&nbsp\; &nbsp\; &nbsp\; 7 pm START</span></h3>\n\n<h3 style="text-align:center"><span style="color:rgb(0\, 0\, 0)">Bring your own food\, appetizers and beverages!</span></h3>\n\n<p style="text-align:center"><em><span style="color:rgb(0\, 0\, 0)">Limited complimentary snacks\, soda\, water and beer will be provided.</span></em></p>\n\n<p style="text-align:center"><em><span style="color:rgb(0\, 0\, 0)">Costume Contest -- Prizes for Best Dressed to the Rock and Roll theme!</span></em></p>\n\n<p style="text-align:center">&nbsp\;</p>\n\n<p style="text-align:center"><em><span style="color:rgb(0\, 0\, 0)">Questions? 314.942.7350 or&nbsp\;info@caringsolutions.org</span></em></p>\n\n<p style="text-align:center"><em><span style="color:rgb(0\, 0\, 0)">Services By Design\, Inc. dba Caring Solutions is a 501(c)(3) nonprofit organization&nbsp\;</span></em></p>\n\n<p style="text-align:center"><em><span style="color:rgb(0\, 0\, 0)">providing services</span></em><em><span style="color:rgb(0\, 0\, 0)">&nbsp\;to children and adults with intellectual and developmental disabilities&nbsp\;</span></em></p>\n
LOCATION:Moolah Shrine Center 12545 Fee Fee Road St. Louis\, MO 63146
UID:e.1302.21192
SEQUENCE:3
DTSTAMP:20260421T115838Z
URL:https://public.greaternorthcountychamber.com/events/details/caring-solutions-rock-and-roll-bingo-21192
END:VEVENT

END:VCALENDAR
