BEGIN:VCALENDAR
VERSION:2.0
PRODID:-//ChamberMaster//Event Calendar 2.0//EN
METHOD:PUBLISH
X-PUBLISHED-TTL:P3D
REFRESH-INTERVAL:P3D
CALSCALE:GREGORIAN
BEGIN:VEVENT
DTSTART:20211014T220000Z
DTEND:20211015T000000Z
X-MICROSOFT-CDO-ALLDAYEVENT:FALSE
SUMMARY:Business After Hours
DESCRIPTION:Join us for free apps\, drinks & networking!
X-ALT-DESC;FMTTYPE=text/html:Join us for free apps\, drinks &amp\; networking!
LOCATION:Amore Pizza 450 St. Francois St Florissant\, MO 63031
UID:e.1302.20275
SEQUENCE:3
DTSTAMP:20260425T014833Z
URL:https://public.greaternorthcountychamber.com/events/details/business-after-hours-20275
END:VEVENT

END:VCALENDAR
