BEGIN:VCALENDAR
VERSION:2.0
PRODID:-//ChamberMaster//Event Calendar 2.0//EN
METHOD:PUBLISH
X-PUBLISHED-TTL:P3D
REFRESH-INTERVAL:P3D
CALSCALE:GREGORIAN
BEGIN:VEVENT
DTSTART:20211111T230000Z
DTEND:20211112T010000Z
X-MICROSOFT-CDO-ALLDAYEVENT:FALSE
SUMMARY:Business After Hours
DESCRIPTION:Join us for Business After Hours! Enjoy free drinks\, apps & networking!
X-ALT-DESC;FMTTYPE=text/html:Join us for Business After Hours! Enjoy free drinks\, apps &amp\; networking!
LOCATION:Chamber office 420 W. Washington St. Florissant\, MO 63031
UID:e.1302.20274
SEQUENCE:3
DTSTAMP:20260425T000026Z
URL:https://public.greaternorthcountychamber.com/events/details/business-after-hours-20274
END:VEVENT

END:VCALENDAR
