BEGIN:VCALENDAR
VERSION:2.0
PRODID:-//ChamberMaster//Event Calendar 2.0//EN
METHOD:PUBLISH
X-PUBLISHED-TTL:P3D
REFRESH-INTERVAL:P3D
CALSCALE:GREGORIAN
BEGIN:VEVENT
DTSTART:20210408T220000Z
DTEND:20210409T000000Z
X-MICROSOFT-CDO-ALLDAYEVENT:FALSE
SUMMARY:Business After Hours
DESCRIPTION:Join us for Business After Hours! Come to enjoy FREE apps\, drinks & networking!
X-ALT-DESC;FMTTYPE=text/html:Join us for Business After Hours! Come to enjoy FREE apps\, drinks &amp\; networking!
LOCATION:GNC Chamber Office
UID:e.1302.20246
SEQUENCE:3
DTSTAMP:20260425T112624Z
URL:https://public.greaternorthcountychamber.com/events/details/business-after-hours-20246
END:VEVENT

END:VCALENDAR
