BEGIN:VCALENDAR
VERSION:2.0
PRODID:-//ChamberMaster//Event Calendar 2.0//EN
METHOD:PUBLISH
X-PUBLISHED-TTL:P3D
REFRESH-INTERVAL:P3D
CALSCALE:GREGORIAN
BEGIN:VEVENT
DTSTART:20220513T150000Z
DTEND:20220513T190000Z
X-MICROSOFT-CDO-ALLDAYEVENT:FALSE
SUMMARY:Blood Drive
DESCRIPTION:Greater North County Chamber of Commerce\n\nMasks and appointments required!\n\nGIVE & GET A GIFT CARD + A TREE PLANTED IN YOUR NAME! \n\nWILL YOU GIVE?\n\nDate: Friday\, May 13\n\nTime: 10:00 am -  2:00 pm\n\nLocation: Parking Lot- 420 West Washington\n\nClick here to schedule your appointment today!\n\nThanks in advance for your help and we hope to see you at the drive!\n\n\n\nALL PARTICIPANTS WILL ALSO RECIEVE A RAISING CANES GIFT CARD!
X-ALT-DESC;FMTTYPE=text/html:<strong><span style="color:#002856\;"><span style="font-family:roboto\;"><span style="font-size:28.0pt\;">Greater North County Chamber of Commerce</span></span></span></strong><br />\n<strong><em><span style="font-family:roboto\;"><span style="font-size:16.0pt\;">Masks and appointments required!</span></span></em></strong><br />\n<strong><span style="color:#86CBDE\;"><span style="font-family:roboto\;"><span style="font-size:18.0pt\;">GIVE &amp\; GET A GIFT CARD + A TREE PLANTED IN YOUR NAME! </span></span></span></strong><br />\n<strong><span style="font-family:roboto\;"><span style="font-size:22pt\;">WILL YOU GIVE?</span></span></strong><br />\n<span style="font-family:roboto\;"><span style="font-size:18.0pt\;">Date: Friday\, May 13</span></span><br />\n<span style="font-family:roboto\;"><span style="font-size:18.0pt\;">Time: 10:00 am -&nbsp\; 2:00 pm</span></span><br />\n<span style="font-family:roboto\;"><span style="font-size:18.0pt\;">Location: Parking Lot- </span></span><em><span style="font-family:roboto\;"><span style="font-size:16.0pt\;">420 West Washington</span></span></em><br />\n<span style="font-size:14.0pt\;"><a href="https://login.bloodcenter.org/donor/schedules/drive_schedule/115521"><span style="font-family:roboto\;"><span style="font-size:18.0pt\;">Click here</span></span></a></span><span style="font-family:roboto\;"><span style="font-size:18.0pt\;"> to schedule your appointment today!</span></span><br />\n<span style="font-family:roboto\;"><span style="font-size:18.0pt\;">Thanks in advance for your help and we hope to see you at the drive!<br />\n<br />\nALL PARTICIPANTS WILL ALSO RECIEVE A RAISING CANES GIFT CARD!</span></span>
LOCATION:Chamber Office 420 W Washington St. Florissant\, MO 63031
UID:e.1302.20533
SEQUENCE:3
DTSTAMP:20260424T145601Z
URL:https://public.greaternorthcountychamber.com/events/details/blood-drive-20533
END:VEVENT

END:VCALENDAR
