BEGIN:VCALENDAR
VERSION:2.0
PRODID:-//ChamberMaster//Event Calendar 2.0//EN
METHOD:PUBLISH
X-PUBLISHED-TTL:P3D
REFRESH-INTERVAL:P3D
CALSCALE:GREGORIAN
BEGIN:VEVENT
DTSTART:20241013T210000Z
DTEND:20241014T010000Z
X-MICROSOFT-CDO-ALLDAYEVENT:FALSE
SUMMARY:Bingo Fundraiser
DESCRIPTION:Experience the ultimate night out with JACCK Foundation STL's Bingo Fundraiser event with friends and family! Ages 8+ Welcomed! Allocating funds towards operating costs will enable our organization to host more free events for community members\, thereby alleviating the financial burden associated with participation. These funds will be used to cover essential expenses such as art and event supplies\, which are crucial for creating enriching experiences. Additionally\, a portion of the funds will be directed towards employee salaries\, ensuring that dedicated staff can continue to deliver high-quality programs. Furthermore\, investments in advertising and marketing materials will help us reach a broader audience\, fostering greater community engagement and awareness.
X-ALT-DESC;FMTTYPE=text/html:Experience the ultimate night out with JACCK Foundation STL&rsquo\;s Bingo Fundraiser event with friends and family! Ages 8+ Welcomed! Allocating funds towards operating costs will enable our organization to host more free events for community members\, thereby alleviating the financial burden associated with participation. These funds will be used to cover essential expenses such as art and event supplies\, which are crucial for creating enriching experiences. Additionally\, a portion of the funds will be directed towards employee salaries\, ensuring that dedicated staff can continue to deliver high-quality programs. Furthermore\, investments in advertising and marketing materials will help us reach a broader audience\, fostering greater community engagement and awareness.
LOCATION:JACCK Foundation for the Arts 20 Patterson Plaza Florissant\, MO 63031
UID:e.1302.21275
SEQUENCE:3
DTSTAMP:20260421T103829Z
URL:https://public.greaternorthcountychamber.com/events/details/bingo-fundraiser-21275
END:VEVENT

END:VCALENDAR
