BEGIN:VCALENDAR
VERSION:2.0
PRODID:-//ChamberMaster//Event Calendar 2.0//EN
METHOD:PUBLISH
X-PUBLISHED-TTL:P3D
REFRESH-INTERVAL:P3D
CALSCALE:GREGORIAN
BEGIN:VEVENT
DTSTART:20240803T150000Z
DTEND:20240803T210000Z
X-MICROSOFT-CDO-ALLDAYEVENT:FALSE
SUMMARY:Back 2 School Health Fair
DESCRIPTION:Join us for free food\, school supplies\, live Music\, fun and games!
X-ALT-DESC;FMTTYPE=text/html:Join us for free food\, school supplies\, live Music\, fun and games!
LOCATION:Berkeley Fire Department 8401 Airport Road Berkeley\, MO 63134
UID:e.1302.21206
SEQUENCE:3
DTSTAMP:20260421T144314Z
URL:https://public.greaternorthcountychamber.com/events/details/back-2-school-health-fair-21206
END:VEVENT

END:VCALENDAR
