BEGIN:VCALENDAR
VERSION:2.0
PRODID:-//ChamberMaster//Event Calendar 2.0//EN
METHOD:PUBLISH
X-PUBLISHED-TTL:P3D
REFRESH-INTERVAL:P3D
CALSCALE:GREGORIAN
BEGIN:VEVENT
DTSTART:20240808T220000Z
DTEND:20240809T000000Z
X-MICROSOFT-CDO-ALLDAYEVENT:FALSE
SUMMARY:August 2024 Off the Clock!
DESCRIPTION:Join us for the August Off the Clock!\n\nBring your business cards\, enjoy some appetizers\, drinks and great conversations!\n\nFree for our GNC Members and Guests!
X-ALT-DESC;FMTTYPE=text/html:Join us for the August Off the Clock!<br />\nBring your business cards\, enjoy some appetizers\, drinks and great conversations!<br />\nFree for our GNC Members and Guests!<br />\n<br />\n&nbsp\;
LOCATION:JACCK Foundation for the Arts
UID:e.1302.21132
SEQUENCE:3
DTSTAMP:20260419T174329Z
URL:https://public.greaternorthcountychamber.com/events/details/august-2024-off-the-clock-21132
END:VEVENT

END:VCALENDAR
