BEGIN:VCALENDAR
VERSION:2.0
PRODID:-//ChamberMaster//Event Calendar 2.0//EN
METHOD:PUBLISH
X-PUBLISHED-TTL:P3D
REFRESH-INTERVAL:P3D
CALSCALE:GREGORIAN
BEGIN:VEVENT
DTSTART:20220817T160000Z
DTEND:20220817T180000Z
X-MICROSOFT-CDO-ALLDAYEVENT:FALSE
SUMMARY:August 2022 Membership Luncheon
DESCRIPTION:August 2022 Luncheon\n\n \n\nWednesday\, August 17th\n\n11:00 am to 1:00 pm\n\nOrlando's Event & Conference Center\n\n\n\n$25 per person\n\nPlease pay online as payment will not be accepted at check-in.\n\n \n\nProgram:\n\nLegislative Luncheon\n\n\n\nSponsors:\n\nThe Taste In Ferguson\n\n\n\nNon-Profit:\n\nAngels at Work\n\n\n\n**Reservations are required\n\n**WALK-INS WILL NOT BE ALLOWED
X-ALT-DESC;FMTTYPE=text/html:<span style="font-family: sans-serif\, Arial\, Verdana\, &quot\;Trebuchet MS&quot\;\; font-size: 13px\; color: rgb(0\, 0\, 255)\;"><strong><em><u><span style="font-family: arial\, sans-serif\;"><span style="font-size: 16.5pt\;">August 2022 Luncheon<br />\n&#8203\;</span></span></u></em></strong></span><br style="color: rgb(51\, 51\, 51)\; font-family: sans-serif\, Arial\, Verdana\, &quot\;Trebuchet MS&quot\;\; font-size: 13px\;" />\n<span style="color: rgb(51\, 51\, 51)\; font-family: sans-serif\, Arial\, Verdana\, &quot\;Trebuchet MS&quot\;\; font-size: 13px\;"><span style="font-family: arial\, sans-serif\;"><span style="font-size: 13.5pt\;">Wednesday\, August 17th<br />\n11:00 am to 1:00 pm<br />\nOrlando&#39\;s Event &amp\; Conference Center<br />\n<br />\n$25 per person<br />\n<em>Please pay online as payment will not be accepted at check-in.</em></span></span></span><br style="color: rgb(51\, 51\, 51)\; font-family: sans-serif\, Arial\, Verdana\, &quot\;Trebuchet MS&quot\;\; font-size: 13px\;" />\n<span style="color: rgb(51\, 51\, 51)\; font-family: sans-serif\, Arial\, Verdana\, &quot\;Trebuchet MS&quot\;\; font-size: 13px\; background-color: rgb(255\, 255\, 255)\;">&nbsp\;</span><br style="color: rgb(51\, 51\, 51)\; font-family: sans-serif\, Arial\, Verdana\, &quot\;Trebuchet MS&quot\;\; font-size: 13px\;" />\n<strong style="color: rgb(51\, 51\, 51)\; font-family: sans-serif\, Arial\, Verdana\, &quot\;Trebuchet MS&quot\;\; font-size: 13px\;"><em><u><span style="background: yellow\;"><span style="color: black\;"><span style="font-family: arial\, sans-serif\;"><span style="font-size: 12pt\;">Program:</span></span></span></span></u></em></strong><br style="color: rgb(51\, 51\, 51)\; font-family: sans-serif\, Arial\, Verdana\, &quot\;Trebuchet MS&quot\;\; font-size: 13px\;" />\n<span style="color: rgb(51\, 51\, 51)\; font-family: sans-serif\, Arial\, Verdana\, &quot\;Trebuchet MS&quot\;\; font-size: 13px\;"><span style="font-family: arial\, sans-serif\;"><span style="font-size: 12pt\;">Legislative Luncheon<br />\n<br />\n<u><strong><span style="background-color: rgb(255\, 255\, 0)\;">Sponsors:</span></strong></u><br />\nThe Taste In Ferguson<br />\n<br />\n<u><strong><span style="background-color: rgb(255\, 255\, 0)\;">Non-Profit:</span></strong></u><br />\nAngels at Work<br />\n<br />\n**Reservations are required<br />\n<strong><em>**WALK-INS WILL NOT BE ALLOWED</em></strong></span></span></span>
LOCATION:Orlando's Event & Conference Center
UID:e.1302.20542
SEQUENCE:3
DTSTAMP:20260423T012211Z
URL:https://public.greaternorthcountychamber.com/events/details/august-2022-membership-luncheon-20542
END:VEVENT

END:VCALENDAR
