BEGIN:VCALENDAR
VERSION:2.0
PRODID:-//ChamberMaster//Event Calendar 2.0//EN
METHOD:PUBLISH
X-PUBLISHED-TTL:P3D
REFRESH-INTERVAL:P3D
CALSCALE:GREGORIAN
BEGIN:VEVENT
DTSTART:20270315T180000Z
DTEND:20270315T190000Z
X-MICROSOFT-CDO-ALLDAYEVENT:FALSE
SUMMARY:Ask-A-Techie free one-on- one tech training
DESCRIPTION:Get FREE one-on-one help and training with technology such as Android and iPhone Smartphones\, MAC or PC computers\, iPad or Android tablets\, WIFI\, email\, and software updates.
X-ALT-DESC;FMTTYPE=text/html:Get FREE one-on-one help and training with technology such as Android and iPhone Smartphones\, MAC or PC computers\, iPad or Android tablets\, WIFI\, email\, and software updates.&nbsp\;
LOCATION:Oasis at Northwest Plaza 500 Northwest Plaza\, Suite 425 St. Ann\, MO 63074
UID:e.1302.22583
SEQUENCE:3
DTSTAMP:20260421T213108Z
URL:https://public.greaternorthcountychamber.com/events/details/ask-a-techie-free-one-on-one-tech-training-03-15-2027-22583
END:VEVENT

END:VCALENDAR
