BEGIN:VCALENDAR
VERSION:2.0
PRODID:-//ChamberMaster//Event Calendar 2.0//EN
METHOD:PUBLISH
X-PUBLISHED-TTL:P3D
REFRESH-INTERVAL:P3D
CALSCALE:GREGORIAN
BEGIN:VEVENT
DTSTART;VALUE=DATE:20241010
DTEND;VALUE=DATE:20241011
TRANSP:TRANSPARENT
X-MICROSOFT-CDO-ALLDAYEVENT:TRUE
SUMMARY:Archwell Health Fall Health & Wellness Fair
DESCRIPTION:Attend our free Health & Wellness Resource Fair on Thursday October 10th from 11-1pm at 199 Florissant Rd\, Ferguson\, MO 63135! Meet our team\, visit local vendors and tour the center!\n\nRSVP required 314-449-9640 for the Ferguson Location
X-ALT-DESC;FMTTYPE=text/html:<p style="margin: 0px\; padding: 0px\; color: rgb(0\, 0\, 0)\; font-family: Arial\, Verdana\, Helvetica\, sans-serif\; font-size: 14px\; white-space-collapse: preserve\;">Attend our free Health &amp\; Wellness Resource Fair on <span style="font-weight: bold\;">Thursday October 10th from 11-1pm</span> at 199 Florissant Rd\, Ferguson\, MO 63135! Meet our team\, visit local vendors and tour the center!</p>\n\n<p style="margin: 0px\; padding: 0px\; color: rgb(0\, 0\, 0)\; font-family: Arial\, Verdana\, Helvetica\, sans-serif\; font-size: 14px\; white-space-collapse: preserve\;">RSVP required 314-449-9640 for the Ferguson Location</p>\n
LOCATION:199 Florissant Rd\, Ferguson\, MO 63135
UID:e.1302.21254
SEQUENCE:3
DTSTAMP:20260421T104558Z
URL:https://public.greaternorthcountychamber.com/events/details/archwell-health-fall-health-wellness-fair-21254
END:VEVENT

END:VCALENDAR
