BEGIN:VCALENDAR
VERSION:2.0
PRODID:-//ChamberMaster//Event Calendar 2.0//EN
METHOD:PUBLISH
X-PUBLISHED-TTL:P3D
REFRESH-INTERVAL:P3D
CALSCALE:GREGORIAN
BEGIN:VEVENT
DTSTART:20241008T160000Z
DTEND:20241008T180000Z
X-MICROSOFT-CDO-ALLDAYEVENT:FALSE
SUMMARY:Archwell Health Fall Health & Wellness Fair
DESCRIPTION:Attend our free Health & Wellness Resource Fair on Tuesday October 8th from 11-1pm at Overland Plaza 9150 Page Ave\, Overland MO 63114! Meet our team\, visit local vendors and tour the center!\n\nRSVP required at 314-449-9633
X-ALT-DESC;FMTTYPE=text/html:<p style="margin: 0px\; padding: 0px\; color: rgb(0\, 0\, 0)\; font-family: Arial\, Verdana\, Helvetica\, sans-serif\; font-size: 14px\; white-space-collapse: preserve\;">Attend our free Health &amp\; Wellness Resource Fair on <span style="font-weight: bold\;">Tuesday October 8th from 11-1pm</span> at Overland Plaza 9150 Page Ave\, Overland MO 63114! Meet our team\, visit local vendors and tour the center!</p>\n\n<p style="margin: 0px\; padding: 0px\; color: rgb(0\, 0\, 0)\; font-family: Arial\, Verdana\, Helvetica\, sans-serif\; font-size: 14px\; white-space-collapse: preserve\;">RSVP required at 314-449-9633</p>\n
LOCATION:Overland Plaza 9150 Page Ave\, Overland MO
UID:e.1302.21253
SEQUENCE:3
DTSTAMP:20260421T104635Z
URL:https://public.greaternorthcountychamber.com/events/details/archwell-health-fall-health-wellness-fair-21253
END:VEVENT

END:VCALENDAR
