BEGIN:VCALENDAR
VERSION:2.0
PRODID:-//ChamberMaster//Event Calendar 2.0//EN
METHOD:PUBLISH
X-PUBLISHED-TTL:P3D
REFRESH-INTERVAL:P3D
CALSCALE:GREGORIAN
BEGIN:VEVENT
DTSTART:20221019T140000Z
DTEND:20221019T170000Z
X-MICROSOFT-CDO-ALLDAYEVENT:FALSE
SUMMARY:ArchWell Health 2nd Annual Senior Health Jam at Emmerson YMCA
DESCRIPTION:ArchWell Health 2nd Annual Senior Health Jam - hosted by the Emmerson YMCA. No Cost. Over 40 vendors providing information and health screenings.  Emcee of the event Rev. Mary Tillman "Radio Angel" and special guest performance by The Charles Glenn Group (Blues fans know Charles Glenn).  Raffle prizes every 15min.  More information conatct 314 349 8347.\n\n\n\nVendors contact:  https://forms.gle/95FXjbfRERSeBi4i9
X-ALT-DESC;FMTTYPE=text/html:ArchWell Health 2nd Annual Senior Health Jam - hosted by the Emmerson YMCA. No Cost. Over 40 vendors providing information and health screenings.&nbsp\; Emcee of the event Rev. Mary Tillman &quot\;Radio Angel&quot\; and special guest performance by The Charles Glenn Group (Blues fans know Charles Glenn).&nbsp\; Raffle prizes every 15min.&nbsp\; More information conatct 314 349 8347.<br />\n<br />\nVendors contact:&nbsp\;&nbsp\;<a href="https://forms.gle/95FXjbfRERSeBi4i9" style="color: rgb(17\, 85\, 204)\; font-family: Arial\, Helvetica\, sans-serif\; font-size: small\; background-color: rgb(255\, 255\, 255)\;" target="_blank">https://forms.gle/95FXjbfRERSeBi4i9</a>
LOCATION:Emmerson YMCA 3390 Pershall Rd Ferguson\, MO 63135
UID:e.1302.20658
SEQUENCE:3
DTSTAMP:20260422T225036Z
URL:https://public.greaternorthcountychamber.com/events/details/archwell-health-2nd-annual-senior-health-jam-at-emmerson-ymca-20658
END:VEVENT

END:VCALENDAR
