BEGIN:VCALENDAR
VERSION:2.0
PRODID:-//ChamberMaster//Event Calendar 2.0//EN
METHOD:PUBLISH
X-PUBLISHED-TTL:P3D
REFRESH-INTERVAL:P3D
CALSCALE:GREGORIAN
BEGIN:VEVENT
DTSTART:20240817T003000Z
DTEND:20240819T020000Z
X-MICROSOFT-CDO-ALLDAYEVENT:FALSE
SUMMARY:ALL I REALLY NEED TO KNOW I LEARNED IN KINDERGARTEN
DESCRIPTION:Based on the books by Robert Fulghum Conceived and adapted by Ernest Zulio Aug 16 & 17 at 7:30pm Aug 18 at 2pm Kindergarten takes a funny\, insightful\, heartwarming look at what is profound in everyday life. It's an evening of theatrical storytelling featuring colorful characters such as a shy little boy who insists on playing the "pig" in his class production of Cinderella and steals the show and a man who dreams of flying over Los Angeles in a lawn chair buoyed by surplus weather balloons. These stories celebrate our very existence\, from the innocence of childhood to the wisdom of old age. (Approximate run time - 1hr & 35 minutes.) Presented by The Alpha Players. Presented through arrangement with Dramatic Publishing\, Inc.
X-ALT-DESC;FMTTYPE=text/html:Based on the books by Robert Fulghum Conceived and adapted by Ernest Zulio Aug 16 &amp\; 17 at 7:30pm Aug 18 at 2pm Kindergarten takes a funny\, insightful\, heartwarming look at what is profound in everyday life. It&rsquo\;s an evening of theatrical storytelling featuring colorful characters such as a shy little boy who insists on playing the &ldquo\;pig&rdquo\; in his class production of Cinderella and steals the show and a man who dreams of flying over Los Angeles in a lawn chair buoyed by surplus weather balloons. These stories celebrate our very existence\, from the innocence of childhood to the wisdom of old age. (Approximate run time - 1hr &amp\; 35 minutes.) Presented by The Alpha Players. Presented through arrangement with Dramatic Publishing\, Inc.
LOCATION:Florissant Performing Arts Center 1 James J Eagan Dr Florissant\, MO 63032
UID:e.1302.21209
SEQUENCE:3
DTSTAMP:20260421T144404Z
URL:https://public.greaternorthcountychamber.com/events/details/all-i-really-need-to-know-i-learned-in-kindergarten-21209
END:VEVENT

END:VCALENDAR
