BEGIN:VCALENDAR
VERSION:2.0
PRODID:-//ChamberMaster//Event Calendar 2.0//EN
METHOD:PUBLISH
X-PUBLISHED-TTL:P3D
REFRESH-INTERVAL:P3D
CALSCALE:GREGORIAN
BEGIN:VEVENT
DTSTART:20241208T200000Z
DTEND:20241208T220000Z
X-MICROSOFT-CDO-ALLDAYEVENT:FALSE
SUMMARY:A Traditional Christmas Carol
DESCRIPTION:A TRADITIONAL CHRISTMAS CAROL By Charles Dickens Adapted by Liana Kopchak Celebrate the wit and whimsy of Charles Dickens with this family-friendly show. Join us for this classic tale of the heartwarming redemption of Mr. Scrooge\, presented in a way that remains true to Mr. Dickens' words. It's a great way to kick off the holiday season! December 5 and 6 at 7:30pm and December 8 at 2 pm Tickets: $12 (Family group rate of 4 or more - $10.)
X-ALT-DESC;FMTTYPE=text/html:A TRADITIONAL CHRISTMAS CAROL By Charles Dickens Adapted by Liana Kopchak Celebrate the wit and whimsy of Charles Dickens with this family-friendly show. Join us for this classic tale of the heartwarming redemption of Mr. Scrooge\, presented in a way that remains true to Mr. Dickens&#39\; words. It&#39\;s a great way to kick off the holiday season! December 5 and 6 at 7:30pm and December 8 at 2 pm Tickets: $12 (Family group rate of 4 or more - $10.)
LOCATION:Florissant Performing Arts Center 1 James J Eagan Dr Florissant\, MO 63033
UID:e.1302.21439
SEQUENCE:3
DTSTAMP:20260421T080945Z
URL:https://public.greaternorthcountychamber.com/events/details/a-traditional-christmas-carol-12-08-2024-21439
END:VEVENT

END:VCALENDAR
