BEGIN:VCALENDAR
VERSION:2.0
PRODID:-//ChamberMaster//Event Calendar 2.0//EN
METHOD:PUBLISH
X-PUBLISHED-TTL:P3D
REFRESH-INTERVAL:P3D
CALSCALE:GREGORIAN
BEGIN:VEVENT
DTSTART:20241012T230000Z
DTEND:20241013T030000Z
X-MICROSOFT-CDO-ALLDAYEVENT:FALSE
SUMMARY:A Nanty Nark Night at Bellefontaine Cemetery & Arboretum
DESCRIPTION:Join us for the inaugural Nanty Nark Night fundraising event at Bellefontaine Cemetery & Arboretum on Saturday October 12th\, 2024. This cocktail or costume attire event will be the very definition of Nanty Narking\, which is a Victorian-era phrase for an evening of great fun! Celebrate an elegant evening filled with live music from the Dirty Muggs\, incredible food\, and extraordinary drinks\, in an enchanting space that only Bellefontaine Cemetery & Arboretum can provide. This is the largest fundraising event of the year!
X-ALT-DESC;FMTTYPE=text/html:Join us for the inaugural Nanty Nark Night fundraising event at Bellefontaine Cemetery &amp\; Arboretum on Saturday October 12th\, 2024. This cocktail or costume attire event will be the very definition of Nanty Narking\, which is a Victorian-era phrase for an evening of great fun! Celebrate an elegant evening filled with live music from the Dirty Muggs\, incredible food\, and extraordinary drinks\, in an enchanting space that only Bellefontaine Cemetery &amp\; Arboretum can provide. This is the largest fundraising event of the year!
LOCATION:Bellefontaine Cemetery & Arboretum 4947 West Florissant Ave\, St. Louis\, MO 63115
UID:e.1302.21223
SEQUENCE:3
DTSTAMP:20260421T104723Z
URL:https://public.greaternorthcountychamber.com/events/details/a-nanty-nark-night-at-bellefontaine-cemetery-arboretum-21223
END:VEVENT

END:VCALENDAR
