BEGIN:VCALENDAR
VERSION:2.0
PRODID:-//ChamberMaster//Event Calendar 2.0//EN
METHOD:PUBLISH
X-PUBLISHED-TTL:P3D
REFRESH-INTERVAL:P3D
CALSCALE:GREGORIAN
BEGIN:VEVENT
DTSTART:20221202T013000Z
DTEND:20221202T030000Z
X-MICROSOFT-CDO-ALLDAYEVENT:FALSE
SUMMARY:A Dickens' Christmas Carol - A Traveling Travesty in Two Tumultuous Acts".
DESCRIPTION:This is NOT your traditional "A Christmas Carol!" When a rag-tag theatrical touring company stages their 15th annual farewell performance of "A Christmas Carol" nothing goes right. There will be plenty of laughs watching these "seasoned professionals" try to hold the show together! It celebrates the Dickens' classic but with a bit of a twist. If you love the classic carol but would like to see something a little different this holiday season\, this is the show for you! Tickets: $15 For tickets: Call 314-921-5678 or visit https://florissantmo.thundertix.com (This is a $1.50 fee for use of credit card. If ordering online there is an additional $1.50 fee PER ticket for use of Thundertix.)
X-ALT-DESC;FMTTYPE=text/html:This is NOT your traditional &quot\;A Christmas Carol!&quot\; When a rag-tag theatrical touring company stages their 15th annual farewell performance of &quot\;A Christmas Carol&quot\; nothing goes right. There will be plenty of laughs watching these &quot\;seasoned professionals&quot\; try to hold the show together! It celebrates the Dickens&#39\; classic but with a bit of a twist. If you love the classic carol but would like to see something a little different this holiday season\, this is the show for you! Tickets: $15 For tickets: Call 314-921-5678 or visit https://florissantmo.thundertix.com (This is a $1.50 fee for use of credit card. If ordering online there is an additional $1.50 fee PER ticket for use of Thundertix.)
LOCATION:Florissant Performing Arts Center ! Jame J Eagan Road\, Florissant MO 63032.
UID:e.1302.20667
SEQUENCE:3
DTSTAMP:20260422T183708Z
URL:https://public.greaternorthcountychamber.com/events/details/a-dickens-christmas-carol-a-traveling-travesty-in-two-tumultuous-acts-20667
END:VEVENT

END:VCALENDAR
