BEGIN:VCALENDAR
VERSION:2.0
PRODID:-//ChamberMaster//Event Calendar 2.0//EN
METHOD:PUBLISH
X-PUBLISHED-TTL:P3D
REFRESH-INTERVAL:P3D
CALSCALE:GREGORIAN
BEGIN:VEVENT
DTSTART:20200913T210000Z
DTEND:20200913T230000Z
X-MICROSOFT-CDO-ALLDAYEVENT:FALSE
SUMMARY:8th Annual Taste in Ferguson "Boxed"
DESCRIPTION:Come join us for the 8th annual Taste in Ferguson "Boxed" drive thru event. Buy a ticket for a box of food containing sample size servings from these local food vendors. Paul's Market\, Red's BBQ\, Mann Meats\, Adam's Smokehouse\, Drake's Place\, Just Chicken\, Helfer's Pastries\, Papa Murphy's\, Amore Pizza\, Pho Long\, Sam's Club\, Cupcake Fetish\, and Made by Lia.\n\nYour ticket purchase supports the Robbie McGartland and Samantha Lipka Memorial Scholarship Fund and these food vendors. \n\nTickets are available at Paul's Market\, Robinwood Automotive\, the Farmers Market on Saturday Mornings and on our website thetasteinferguson.com. Vist our website for more details.
X-ALT-DESC;FMTTYPE=text/html:Come join us for the 8th annual Taste in Ferguson &quot\;Boxed&quot\; drive thru event. Buy a ticket for a box of food containing sample size servings from these local food vendors. <span style="color:rgb(35\, 31\, 32)\; font-size:12px">Paul&#39\;s Market\, Red&#39\;s BBQ\, Mann Meats\, Adam&#39\;s Smokehouse\, Drake&#39\;s Place\, Just Chicken\, Helfer&#39\;s Pastries\, Papa Murphy&#39\;s\, Amore Pizza\, Pho Long\, Sam&#39\;s</span><span style="font-size:12px"> </span><span style="color:rgb(35\, 31\, 32)\; font-size:12px">Club\,</span><span style="font-size:12px"> </span><span style="color:rgb(35\, 31\, 32)\; font-size:12px">Cupcake</span><span style="font-size:12px"> </span><span style="color:rgb(35\, 31\, 32)\; font-size:12px">Fetish\, and Made by Lia.<br />\nYour ticket purchase supports the Robbie McGartland and Samantha Lipka Memorial Scholarship Fund and these food vendors.&nbsp\;<br />\nTickets are available at Paul&#39\;s Market\, Robinwood Automotive\, the Farmers Market on Saturday Mornings and on our website thetasteinferguson.com. Vist our website for more details.<br />\n&nbsp\;</span>
LOCATION:Drive Thru Pick Up Savoy Banquet Center 119 S Florissant Road Ferguson Mo. 63135
UID:e.1302.20118
SEQUENCE:3
DTSTAMP:20260426T001656Z
URL:https://public.greaternorthcountychamber.com/events/details/8th-annual-taste-in-ferguson-boxed-20118
END:VEVENT

END:VCALENDAR
