BEGIN:VCALENDAR
VERSION:2.0
PRODID:-//ChamberMaster//Event Calendar 2.0//EN
METHOD:PUBLISH
X-PUBLISHED-TTL:P3D
REFRESH-INTERVAL:P3D
CALSCALE:GREGORIAN
BEGIN:VEVENT
DTSTART:20240822T200000Z
DTEND:20240823T000000Z
X-MICROSOFT-CDO-ALLDAYEVENT:FALSE
SUMMARY:7th Annual Memorial Blood Drive In Memory Of Michael Fitzwalter
DESCRIPTION:Join us for the 7th Annual memorial blood drive in memory of Michael Fitzwalter Sponsored by HEAL:Stop Heroin and Refuge & Restoration NPO.
X-ALT-DESC;FMTTYPE=text/html:Join us for the 7th Annual memorial blood drive in memory of Michael Fitzwalter Sponsored by HEAL:Stop Heroin and Refuge &amp\; Restoration NPO.
LOCATION:Ferguson Community Center at 1050 Smith Avenue
UID:e.1302.21200
SEQUENCE:3
DTSTAMP:20260421T133655Z
URL:https://public.greaternorthcountychamber.com/events/details/7th-annual-memorial-blood-drive-in-memory-of-michael-fitzwalter-21200
END:VEVENT

END:VCALENDAR
