BEGIN:VCALENDAR
VERSION:2.0
PRODID:-//ChamberMaster//Event Calendar 2.0//EN
METHOD:PUBLISH
X-PUBLISHED-TTL:P3D
REFRESH-INTERVAL:P3D
CALSCALE:GREGORIAN
BEGIN:VEVENT
DTSTART:20210217T173000Z
DTEND:20210217T190000Z
X-MICROSOFT-CDO-ALLDAYEVENT:FALSE
SUMMARY:66th Anniversary Awards Luncheon
DESCRIPTION:66th Anniversary Awards Luncheon\nWednesday\, February 17th\, 2021\n\n11:30 am to 1:00 pm\n\nCatering to You Banquet Center\n\n\n\n$50 per person\n\nPlease pay online as payment will not be accepted at check-in.\n \n\nProgram:\n\nHelp us honor our Business Persons of the Year\, Chris & Cathy Helfer and Senator Gina Walsh as our Zykan Family Legacy Award recipient. We will also be awarding members with big Chamber Anniversaries.\n\n\n\n**Masks will be required to be worn\n\n**Temperatures will be checked at the door\n\n**Reservations are required\n\n**WALK-INS WILL NOT BE ALLOWED\n\n\n\nEvent Sponsor - $1000:\n\n2 tables of 4 for the event\n\nLogo on all event flyers/emails\n\nFull page ad in the program\n\nLogo on powerpoint\n\nLogo on event signage\n\n\n\nSapphire Sponsor - $500:\n\n2 tickets to the event\n\nHalf page ad in the program\n\nLogo on powerpoint\n\nLogo on event signage\n\n\n\nAdvertising - $200:\n\nQuarter page ad in the program\n\nLogo on powerpoint\n\nName on event signage
X-ALT-DESC;FMTTYPE=text/html:<strong font-size:="" style="color: rgb(51\, 51\, 51)\; font-family: sans-serif\, Arial\, Verdana\, " trebuchet=""><em><u><span style="color: purple\;"><span style="font-family: arial\, sans-serif\;"><span style="font-size: 16.5pt\;">66th Anniversary Awards Luncheon</span></span></span></u></em></strong>\n<h3 style="font-weight: normal\; line-height: 1.2\; color: rgb(51\, 51\, 51)\; font-family: sans-serif\, Arial\, Verdana\, " trebuchet="">Wednesday\, February 17th\, 2021<br />\n11:30 am to 1:00 pm<br />\nCatering to You Banquet Center<br />\n<br />\n$50 per person</h3>\n\n<h3 style="font-weight: normal\; line-height: 1.2\; color: rgb(51\, 51\, 51)\; font-family: sans-serif\, Arial\, Verdana\, " trebuchet=""><em>Please pay online as payment will not be accepted at check-in.</em></h3>\n<span background-color:="" font-size:="" style="color: rgb(51\, 51\, 51)\; font-family: sans-serif\, Arial\, Verdana\, " trebuchet="">&nbsp\;</span><br font-size:="" style="color: rgb(51\, 51\, 51)\; font-family: sans-serif\, Arial\, Verdana\, " trebuchet="" />\n<strong font-size:="" style="color: rgb(51\, 51\, 51)\; font-family: sans-serif\, Arial\, Verdana\, " trebuchet=""><em><u><span style="background: yellow\;"><span style="color: black\;"><span style="font-family: arial\, sans-serif\;"><span style="font-size: 12pt\;">Program:</span></span></span></span></u></em></strong>\n\n<p font-size:="" style="color: rgb(51\, 51\, 51)\; font-family: sans-serif\, Arial\, Verdana\, " trebuchet=""><span style="color: black\;"><span style="font-family: arial\, sans-serif\;"><span style="font-size: 12pt\;">Help us honor our Business Persons of the Year\, Chris &amp\; Cathy Helfer and Senator Gina Walsh as our Zykan Family Legacy Award recipient. We will also be awarding members with big Chamber Anniversaries.<br />\n<br />\n**Masks will be required to be worn<br />\n**Temperatures will be checked at the door<br />\n**Reservations are required<br />\n<em><strong>**WALK-INS WILL NOT BE ALLOWED</strong></em></span></span></span><br />\n<br />\nEvent Sponsor - $1000:<br />\n2 tables of 4 for the event<br />\nLogo on all event flyers/emails<br />\nFull page ad in the program<br />\nLogo on powerpoint<br />\nLogo on event signage<br />\n<br />\nSapphire Sponsor - $500:<br />\n2 tickets to the event<br />\nHalf page ad in the program<br />\nLogo on powerpoint<br />\nLogo on event signage<br />\n<br />\nAdvertising - $200:<br />\nQuarter page ad in the program<br />\nLogo on powerpoint<br />\nName on event signage</p>\n
LOCATION:Catering to You 12775 New Halls Ferry Florissant\, MO 63033
UID:e.1302.20133
SEQUENCE:3
DTSTAMP:20260425T143527Z
URL:https://public.greaternorthcountychamber.com/events/details/66th-anniversary-awards-luncheon-20133
END:VEVENT

END:VCALENDAR
