BEGIN:VCALENDAR
VERSION:2.0
PRODID:-//ChamberMaster//Event Calendar 2.0//EN
METHOD:PUBLISH
X-PUBLISHED-TTL:P3D
REFRESH-INTERVAL:P3D
CALSCALE:GREGORIAN
BEGIN:VEVENT
DTSTART:20241215T000000Z
DTEND:20241215T030000Z
X-MICROSOFT-CDO-ALLDAYEVENT:FALSE
SUMMARY:3rd Annual Santa's Sleigh
DESCRIPTION:Join us on December 14th from 6-9pm for food\, drinks\, crafts\, stuffed stockings\, and pictures with Santa. BLACK JACK FIRE PROTECTION DISTRICT 5675 N HIGHWAY 67\, FLORISSANT\, MO 63034
X-ALT-DESC;FMTTYPE=text/html:<span style="color: rgb(0\, 0\, 0)\; font-family: Arial\, Verdana\, Helvetica\, sans-serif\; font-size: 14px\; white-space-collapse: preserve\;">Join us on </span><span style="color: rgb(0\, 0\, 0)\; font-family: Arial\, Verdana\, Helvetica\, sans-serif\; font-size: 14px\; white-space-collapse: preserve\; font-weight: bold\;">December 14th from 6-9pm</span><span style="color: rgb(0\, 0\, 0)\; font-family: Arial\, Verdana\, Helvetica\, sans-serif\; font-size: 14px\; white-space-collapse: preserve\;"> for food\, drinks\, crafts\, stuffed stockings\, and pictures with Santa. BLACK JACK FIRE PROTECTION DISTRICT 5675 N HIGHWAY 67\, FLORISSANT\, MO 63034</span>
LOCATION:BLACK JACK FIRE PROTECTION DISTRICT 5675 N HIGHWAY 67\, FLORISSANT\, MO 63034
UID:e.1302.21308
SEQUENCE:3
DTSTAMP:20260421T080701Z
URL:https://public.greaternorthcountychamber.com/events/details/3rd-annual-santa-s-sleigh-21308
END:VEVENT

END:VCALENDAR
