BEGIN:VCALENDAR
VERSION:2.0
PRODID:-//ChamberMaster//Event Calendar 2.0//EN
METHOD:PUBLISH
X-PUBLISHED-TTL:P3D
REFRESH-INTERVAL:P3D
CALSCALE:GREGORIAN
BEGIN:VEVENT
DTSTART:20240902T143000Z
DTEND:20240903T000000Z
X-MICROSOFT-CDO-ALLDAYEVENT:FALSE
SUMMARY:2nd Annual Tour de Florissant-Gateway Cup
DESCRIPTION:The Bommarito Audi West County Gateway Cup is one of the biggest professional and amateur competitive cycling events in the US. More than just a race\, the series is a four day celebration of cycling.\n\nEach day features a unique venue\, with the 'stadium' being a signature St. Louis neighborhood with the final leg being on Monday\, September 2nd in Florissant. The athletes are the very best in the world at criterium bicycle racing- the very American format of pro cycling.\n\nAlongside each days races are kids races\, charity rides\, recreational rides\, product and food expos\, and the best seats in the house for an amazing live sport.\n\nGet involved as a fan\, join an event\, volunteer- get in the game- we'll see you there.\n\nwww.gatewaycup.com\n\nFor more information on the Tour de Florissant\, follow this link: https://gatewaycup.com/races/tour-de-florissant/
X-ALT-DESC;FMTTYPE=text/html:The Bommarito Audi West County Gateway Cup is one of the biggest professional and amateur competitive cycling events in the US. More than just a race\, the series is a four day celebration of cycling.<br />\nEach day features a unique venue\, with the &#39\;stadium&#39\; being a signature St. Louis neighborhood with the final leg being on Monday\, September 2nd in Florissant. The athletes are the very best in the world at criterium bicycle racing- the very American format of pro cycling.<br />\nAlongside each days races are kids races\, charity rides\, recreational rides\, product and food expos\, and the best seats in the house for an amazing live sport.<br />\nGet involved as a fan\, join an event\, volunteer- get in the game- we&#39\;ll see you there.<br />\n<a href="https://l.facebook.com/l.php?u=http%3A%2F%2Fwww.gatewaycup.com%2F%3Ffbclid%3DIwZXh0bgNhZW0CMTAAAR1QHBPZ6_g44qz028sN5l5QaiK0JSWqKVDrx7h0BTNTItb7qx6J1vFMDw4_aem_yK5VSEJ2DqMfkW95TiDB0w&amp\;h=AT3akZRRFD7TrW8xTBswZmnAD-l4UwyPD6euyTu4xHO40dyOg1ICNQwhjnDycTye87U4FD5l6egbRUaJ52TK4ypB-3Oy5dMKfwJ5cDuLYVprmWfsnPE4xIvTs5CwqNV-9rtc&amp\;__tn__=q&amp\;c%5b0%5d=AT1CeOT-F_D8HKNg8NhAh7Sur18CH5yI-_E_8so9VCihjwoXfAf_rYRPoEB9flVGVuuUPOtUPBWdu1RmUYnnfz6RA3uhU1WHO42XuB9-hMeOpO1oRfSTIvEm1Y27gK7rUHoSQjepaoYav--x_3hoG7bMC7FQAeMeEdzKZpa5rRclS0t8NGhz" target="_blank">www.gatewaycup.com</a><br />\nFor more information on the Tour de Florissant\, follow this link:&nbsp\;<a href="https://gatewaycup.com/races/tour-de-florissant/?fbclid=IwZXh0bgNhZW0CMTAAAR1QHBPZ6_g44qz028sN5l5QaiK0JSWqKVDrx7h0BTNTItb7qx6J1vFMDw4_aem_yK5VSEJ2DqMfkW95TiDB0w" target="_blank">https://gatewaycup.com/races/tour-de-florissant/</a>
LOCATION:410 Rue St. Francois\, Florissant\, MO 63031
UID:e.1302.21258
SEQUENCE:3
DTSTAMP:20260421T120419Z
URL:https://public.greaternorthcountychamber.com/events/details/2nd-annual-tour-de-florissant-gateway-cup-21258
END:VEVENT

END:VCALENDAR
