BEGIN:VCALENDAR
VERSION:2.0
PRODID:-//ChamberMaster//Event Calendar 2.0//EN
METHOD:PUBLISH
X-PUBLISHED-TTL:P3D
REFRESH-INTERVAL:P3D
CALSCALE:GREGORIAN
BEGIN:VEVENT
DTSTART:20241013T150000Z
DTEND:20241013T220000Z
X-MICROSOFT-CDO-ALLDAYEVENT:FALSE
SUMMARY:27th Annual Florissant Fall Festival
DESCRIPTION:Presented by Old Town Partners and the City of Florissant on Sunday October 13th\, 2024 from 10am-5pm. Enjoy the live music\, food and retail vendors\, pony rides\, pumpkin decorating\, and car and dog shows in this family friendly atmosphere. For more information call 314-837-0033 or email office@florissantoldtown.com
X-ALT-DESC;FMTTYPE=text/html:<p style="margin: 0px\; padding: 0px\; text-align: center\;"><span style="color: rgb(102\, 102\, 102)\;">Presented by Old Town Partners and the City of Florissant on </span><span style="color: rgb(102\, 102\, 102)\; font-weight: bold\;">Sunday October 13th\, 2024</span><span style="color: rgb(102\, 102\, 102)\;"> from 10am-5pm. Enjoy the live music\, food and retail vendors\, pony rides\, pumpkin decorating\, and car and dog shows in this family friendly atmosphere. For more information call 314-837-0033 or email office@florissantoldtown.com</span></p>\n\n<p style="margin: 0px\; padding: 0px\;">&nbsp\;</p>\n
LOCATION:Florissant\, MO
UID:e.1302.21259
SEQUENCE:3
DTSTAMP:20260421T104517Z
URL:https://public.greaternorthcountychamber.com/events/details/27th-annual-florissant-fall-festival-21259
END:VEVENT

END:VCALENDAR
