BEGIN:VCALENDAR
VERSION:2.0
PRODID:-//ChamberMaster//Event Calendar 2.0//EN
METHOD:PUBLISH
X-PUBLISHED-TTL:P3D
REFRESH-INTERVAL:P3D
CALSCALE:GREGORIAN
BEGIN:VEVENT
DTSTART:20260806T230000Z
DTEND:20260807T020000Z
X-MICROSOFT-CDO-ALLDAYEVENT:FALSE
SUMMARY:2026 Bowling for Scholars!
DESCRIPTION:Join us for our 2026 Bowling for Scholars! \n\nAll funds from this event go into our North County High School Scholarship Fund!  To date the GNC Chamber has been able to award over $100\,000 in scholarship money to North County High School Seniors! \n\n\n\nPresented by:\n\n\n\nThursday\, August 6th\, 2026\n\n6 pm \n\nCrest Bowl\n\n\n\nTeam of Six Bowlers: $200\n\nIncludes:\n\n*3 games\n\n*Shoe Rental\n\n*1 Pizza & Pitcher of Soda\n\n*Attendance Prizes\n\n\n\nBe a Sponsor!\n\n\n\nStrike Sponsor: $375\n\nIncludes: \n\n*Team of Six Bowlers\n\n*Shoe Rental\n\n*Pizza & Soda\n\n*Attendance Prizes\n\n*Signage\n\n*Business Promo Items in Goodie Bags\n\n*Pizza & Drink Sponsorship\n\n*Lane Sponsorship\n\n*Listing in Program\n\n*Listed on GNC Chamber Website & Social Media\n\n\n\nPizza & Drink Sponsor: $200\n\nIncudes:\n\n*Signage at the Bar/Concessions\n\n*Listing in the Program\n\n*Listed on the GNC Chamber Website\n\n\n\nLane Sponsor: $125\n\nIncludes:\n\n*Signage\n\n*Listed in the Program
X-ALT-DESC;FMTTYPE=text/html:<br />\n<br />\n<br />\n<br />\n<span style="color:#0000FF\;"><u><strong>Join us for our 2026 Bowling for Scholars!&nbsp\;</strong></u></span><br />\nAll funds from this event go into our North County High School Scholarship Fund!&nbsp\; To date the GNC Chamber has been able to award over $100\,000 in scholarship money to North County High School Seniors!&nbsp\;<br />\n<br />\nPresented by:<br />\n<br />\nThursday\, August 6th\, 2026<br />\n6 pm&nbsp\;<br />\nCrest Bowl<br />\n<br />\n<u><strong>Team of Six Bowlers: $200</strong></u><br />\n<em>Includes:</em><br />\n*3 games<br />\n*Shoe Rental<br />\n*1 Pizza &amp\; Pitcher of Soda<br />\n*Attendance Prizes<br />\n<br />\n<strong><span style="color:#008000\;">Be a Sponsor!</span></strong><br />\n<br />\n<u><strong>Strike Sponsor: $375</strong></u><br />\n<em>Includes</em>:&nbsp\;<br />\n*Team of Six Bowlers<br />\n*Shoe Rental<br />\n*Pizza &amp\; Soda<br />\n*Attendance Prizes<br />\n*Signage<br />\n*Business Promo Items in Goodie Bags<br />\n*Pizza &amp\; Drink Sponsorship<br />\n*Lane Sponsorship<br />\n*Listing in Program<br />\n*Listed on GNC Chamber Website &amp\; Social Media<br />\n<br />\n<u><strong>Pizza &amp\; Drink Sponsor: $200</strong></u><br />\n<em>Incudes</em>:<br />\n*Signage at the Bar/Concessions<br />\n*Listing in the Program<br />\n*Listed on the GNC Chamber Website<br />\n<br />\n<u><strong>Lane Sponsor: $125</strong></u><br />\n<em>Includes</em>:<br />\n*Signage<br />\n*Listed in the Program<br />\n&nbsp\;
LOCATION:Crest Bowl 650 N New Florissant Rd\, Florissant\, MO 63031
UID:e.1302.23683
SEQUENCE:3
DTSTAMP:20260421T113802Z
URL:https://public.greaternorthcountychamber.com/events/details/2025-bowling-for-scholars-23683
END:VEVENT

END:VCALENDAR
