BEGIN:VCALENDAR
VERSION:2.0
PRODID:-//ChamberMaster//Event Calendar 2.0//EN
METHOD:PUBLISH
X-PUBLISHED-TTL:P3D
REFRESH-INTERVAL:P3D
CALSCALE:GREGORIAN
BEGIN:VEVENT
DTSTART:20241008T170000Z
DTEND:20241008T180000Z
X-MICROSOFT-CDO-ALLDAYEVENT:FALSE
SUMMARY:2024 Women In Networking Lunch
DESCRIPTION:Calling all the Women!  Join us for the Women In Networking Lunch!\n\nThe second Tuesday of every month at Noon at Catering to You Banquet Center!\n\n\n\nPLEASE REGISTER USING THIS LINK: \nhttps://GNCCWINOCT2024.planningpod.com
X-ALT-DESC;FMTTYPE=text/html:Calling all the Women!&nbsp\; Join us for the Women In Networking Lunch!<br />\nThe second Tuesday of every month at Noon at Catering to You Banquet Center!<br />\n<br />\nPLEASE REGISTER USING THIS LINK:&nbsp\;\n<h2 style="font-weight: normal\; line-height: 1.2\; color: rgb(51\, 51\, 51)\; font-family: sans-serif\, Arial\, Verdana\, &quot\;Trebuchet MS&quot\;\;"><span style="font-size:18px\;"><a class="x_OWAAutoLink" data-auth="NotApplicable" data-linkindex="0" href="https://gnccwinoct2024.planningpod.com/" id="OWAdda05754-3954-9791-1bed-d6cf557f2ddc" rel="noopener noreferrer" style="border: 0px\; font-variant-numeric: inherit\; font-variant-east-asian: inherit\; font-variant-alternates: inherit\; font-variant-position: inherit\; font-weight: 600\; font-stretch: inherit\; font-size: 16px\; line-height: inherit\; font-family: Aptos\, Aptos_EmbeddedFont\, Aptos_MSFontService\, Calibri\, Helvetica\, sans-serif\, serif\, EmojiFont\; font-optical-sizing: inherit\; font-size-adjust: inherit\; font-kerning: inherit\; font-feature-settings: inherit\; font-variation-settings: inherit\; margin: 0px\; padding: 0px\; vertical-align: baseline\; color: rgb(0\, 85\, 179)\;" target="_blank">https://GNCCWINOCT2024.planningpod.com</a></span></h2>\n
LOCATION:Catering to You Banquet Center 12775 New Halls Ferry Rd. Florissant\, MO 63033
UID:e.1302.21103
SEQUENCE:3
DTSTAMP:20260421T104333Z
URL:https://public.greaternorthcountychamber.com/events/details/2024-women-in-networking-lunch-10-08-2024-21103
END:VEVENT

END:VCALENDAR
