BEGIN:VCALENDAR
VERSION:2.0
PRODID:-//ChamberMaster//Event Calendar 2.0//EN
METHOD:PUBLISH
X-PUBLISHED-TTL:P3D
REFRESH-INTERVAL:P3D
CALSCALE:GREGORIAN
BEGIN:VEVENT
DTSTART:20240910T170000Z
DTEND:20240910T180000Z
X-MICROSOFT-CDO-ALLDAYEVENT:FALSE
SUMMARY:2024 Women In Networking Lunch
DESCRIPTION:Calling all the Women!  Join us for the Women In Networking Lunch!\n\nThe second Tuesday of every month at Noon at Catering to You Banquet Center!\n\n\n\nPLEASE REGISTER USING THIS LINK: \nhttps://gnccwinsept24.planningpod.com/
X-ALT-DESC;FMTTYPE=text/html:Calling all the Women!&nbsp\; Join us for the Women In Networking Lunch!<br />\nThe second Tuesday of every month at Noon at Catering to You Banquet Center!<br />\n<br />\n<span style="background-color:#FFD700\;">PLEASE REGISTER USING THIS LINK:&nbsp\;</span>\n<h2 style="font-weight: normal\; line-height: 1.2\; color: rgb(51\, 51\, 51)\; font-family: sans-serif\, Arial\, Verdana\, " trebuchet=""><span style="font-size:22px\;"><a data-auth="NotApplicable" data-linkindex="0" href="https://gnccwinsept24.planningpod.com/" id="LPlnk996685" rel="noopener noreferrer" style="border: 0px\; font-variant-numeric: inherit\; font-variant-east-asian: inherit\; font-variant-alternates: inherit\; font-variant-position: inherit\; font-stretch: inherit\; font-size: 16px\; line-height: inherit\; font-family: Aptos\, Aptos_EmbeddedFont\, Aptos_MSFontService\, Calibri\, Helvetica\, sans-serif\; font-optical-sizing: inherit\; font-size-adjust: inherit\; font-kerning: inherit\; font-feature-settings: inherit\; font-variation-settings: inherit\; margin: 0px\; padding: 0px\; vertical-align: baseline\;" target="_blank"><span style="background-color:#FFD700\;">https://gnccwinsept24.planningpod.com/</span></a></span></h2>\n
LOCATION:Catering to You Banquet Center 12775 New Halls Ferry Rd. Florissant\, MO 63033
UID:e.1302.21102
SEQUENCE:3
DTSTAMP:20260421T120253Z
URL:https://public.greaternorthcountychamber.com/events/details/2024-women-in-networking-lunch-09-10-2024-21102
END:VEVENT

END:VCALENDAR
