BEGIN:VCALENDAR
VERSION:2.0
PRODID:-//ChamberMaster//Event Calendar 2.0//EN
METHOD:PUBLISH
X-PUBLISHED-TTL:P3D
REFRESH-INTERVAL:P3D
CALSCALE:GREGORIAN
BEGIN:VEVENT
DTSTART:20240611T170000Z
DTEND:20240611T180000Z
X-MICROSOFT-CDO-ALLDAYEVENT:FALSE
SUMMARY:2024 Women In Networking Lunch
DESCRIPTION:Calling all the Women!  Join us for the Women In Networking Lunch!\n\nThe second Tuesday of every month at Noon at Catering to You Banquet Center!\n\n\n\nPLEASE REGISTER USING THIS LINK: \nhttps://GNCCWINJUNE24.planningpod.com
X-ALT-DESC;FMTTYPE=text/html:Calling all the Women!&nbsp\; Join us for the Women In Networking Lunch!<br />\nThe second Tuesday of every month at Noon at Catering to You Banquet Center!<br />\n<br />\nPLEASE REGISTER USING THIS LINK:&nbsp\;\n<h2 style="font-weight: normal\; line-height: 1.2\; color: rgb(51\, 51\, 51)\; font-family: sans-serif\, Arial\, Verdana\, &quot\;Trebuchet MS&quot\;\;"><strong><span style="background:white\;"><span style="color:#0055B3\;"><a href="https://gnccwinjune24.planningpod.com/" target="_blank"><span style="color:#0055B3\;">https://GNCCWINJUNE24.planningpod.com</span></a></span></span></strong><br />\n&nbsp\;</h2>\n
LOCATION:Catering to You Banquet Center 12775 New Halls Ferry Rd. Florissant\, MO 63033
UID:e.1302.21099
SEQUENCE:3
DTSTAMP:20260421T172945Z
URL:https://public.greaternorthcountychamber.com/events/details/2024-women-in-networking-lunch-06-11-2024-21099
END:VEVENT

END:VCALENDAR
