BEGIN:VCALENDAR
VERSION:2.0
PRODID:-//ChamberMaster//Event Calendar 2.0//EN
METHOD:PUBLISH
X-PUBLISHED-TTL:P3D
REFRESH-INTERVAL:P3D
CALSCALE:GREGORIAN
BEGIN:VEVENT
DTSTART:20240409T170000Z
DTEND:20240409T180000Z
X-MICROSOFT-CDO-ALLDAYEVENT:FALSE
SUMMARY:2024 Women In Networking Lunch
DESCRIPTION:Calling all the Women! \n\nJoin us for the Women In Networking Lunch!\n\nThe second Tuesday of every month at Noon at Catering to You Banquet Center! \n\n\n\nPlease register and pay thru this link:\n\nhttps://gnccwin.planningpod.com/\n\n\n\nDeadline to register is Friday\, April 5th by Noon! \n\n\n\nLunch will be:\n\n*St. Louis Italian Salad\n\n*Broccoli Cheese Soup\n\n*French Onion Soup\n\n*Turkey Avocado \n\n*Cranberry Pecan Chicken Salad
X-ALT-DESC;FMTTYPE=text/html:<h2>Calling all the Women!&nbsp\;<br />\nJoin us for the Women In Networking Lunch!<br />\nThe second Tuesday of every month at Noon at <em><strong><span style="background-color:#FFD700\;">Catering to You Banquet Center</span></strong></em><span style="background-color:#FFD700\;">!&nbsp\;<br />\n<br />\nPlease register and pay thru this link:</span><br />\n<span style="color:black\;"><a href="https://gnccwin.planningpod.com/">https://gnccwin.planningpod.com/</a></span><br />\n<br />\n<em><span style="color:#B22222\;">Deadline to register is Friday\, April 5th by Noon!&nbsp\;</span></em><br />\n<br />\n<em><u>Lunch will be:</u></em><br />\n<span style="font-family:arial\,sans-serif\;"><span style="font-size:12.0pt\;">*St. Louis Italian Salad</span></span><br />\n<span style="font-family:arial\,sans-serif\;"><span style="font-size:12.0pt\;">*Broccoli Cheese Soup</span></span><br />\n<span style="font-family:arial\,sans-serif\;"><span style="font-size:12.0pt\;">*French Onion Soup</span></span><br />\n<span style="font-family:arial\,sans-serif\;"><span style="font-size:12.0pt\;">*Turkey Avocado </span></span><br />\n<span style="font-family:arial\,sans-serif\;"><span style="font-size:12.0pt\;">*Cranberry Pecan Chicken Salad</span></span></h2>\n
LOCATION:Catering to You Banquet Center 12775 New Halls Ferry Rd. Florissant\, MO 63033
UID:e.1302.21097
SEQUENCE:3
DTSTAMP:20260421T190847Z
URL:https://public.greaternorthcountychamber.com/events/details/2024-women-in-networking-lunch-04-09-2024-21097
END:VEVENT

END:VCALENDAR
