BEGIN:VCALENDAR
VERSION:2.0
PRODID:-//ChamberMaster//Event Calendar 2.0//EN
METHOD:PUBLISH
X-PUBLISHED-TTL:P3D
REFRESH-INTERVAL:P3D
CALSCALE:GREGORIAN
BEGIN:VEVENT
DTSTART:20240926T160000Z
DTEND:20240926T170000Z
X-MICROSOFT-CDO-ALLDAYEVENT:FALSE
SUMMARY:2024 Ambassador Meeting
DESCRIPTION:Become a GNC Chamber Ambassador! \n\nJoin the Ambassador Committee with you GNC Chamber Membership!  Be the "Welcoming Group" of the GNC Chamber!  \n\n\n\nFor more details call or email Jaime Jenkins at (314) 831-3500 or Jaime@gnccstl.com
X-ALT-DESC;FMTTYPE=text/html:Become a GNC Chamber Ambassador!&nbsp\;<br />\nJoin the Ambassador Committee with you GNC Chamber Membership!&nbsp\; Be the &quot\;Welcoming Group&quot\; of the GNC Chamber!&nbsp\;&nbsp\;<br />\n<br />\nFor more details call or email Jaime Jenkins at (314) 831-3500 or Jaime@gnccstl.com
LOCATION:GNC Chamber Office 420 W. Washington St\, Florissant\, MO 63031
UID:e.1302.21091
SEQUENCE:3
DTSTAMP:20260421T120253Z
URL:https://public.greaternorthcountychamber.com/events/details/2024-ambassador-meeting-09-26-2024-21091
END:VEVENT

END:VCALENDAR
