BEGIN:VCALENDAR
VERSION:2.0
PRODID:-//ChamberMaster//Event Calendar 2.0//EN
METHOD:PUBLISH
X-PUBLISHED-TTL:P3D
REFRESH-INTERVAL:P3D
CALSCALE:GREGORIAN
BEGIN:VEVENT
DTSTART:20210417T230000Z
DTEND:20210418T030000Z
X-MICROSOFT-CDO-ALLDAYEVENT:FALSE
SUMMARY:2021 Music Trivia-We're Gonna Party Like it's 1999!
DESCRIPTION:Join us for our 6th Annual Music Trivia Night! \n\nWe're Gonna Party Like It's 1999!\n\n\n\nPresented by: \n\nSSM Health DePaul Hospital- St. Louis\n\n\n\nWith: \n\nBig Papa G Entertainment\n\nSaturday\, April 17th\, 2021\n\nJames J. Eagan Center\n\nFlorissant\, MO 63031\n\nDoors Open at 6 pm\n\nTrivia Begins at 7 pm \n\n\n\nMusic Trivia Questions from all Era's with a decorating theme of the 1990's!\n\n\nRegular Tables of Eight are $160\n\n\nBe a VIP! \n\nGet a VIP Table for $250\n\nIncludes:\n\nTable of Eight\n\nAccess to the VIP Party Tent\n\nFood\n\nDrinks\n\nMulligans\n\nPriority Seating\n \n\nBe a Sponsor!\n\nEvent Sponsor: $500\n\n*VIP Table of Eight\n\n*Round Sponsorship\n\n*Digital Signage\n\n*Included in all Pre & Post Press Releases\n\n*Listed on the GNC Chamber Website & Social Media\n\n*Promo Materials on all tables\n\n*Full Page Ad in Program\n\n*Listed on ALL Answer Sheets\n\n*Announced at the Event\n\n*Full Page Ad in the GNC Chamber Newsletter for 2 months\n\n*1/2 Page in the GNC Chamber Newsletter for 6 months\n\n\n\nVIP Party Tent Sponsor: $350\n\n*VIP Table of Eight\n\n*Digital Signage\n\n*Promo Material on Tables\n\n*Listed in the Program\n\n*Announced at the Event\n\n*Business Card in the GNC Chamber Newsletter for 6 months\n\n\n\nVIP Food & Bar Sponsor: $250\n\n*Digital Signage\n\n*Signage at VIP Party Tent & at the Bars\n\n*Inclusion in Program\n\n*Business Card Ad in GNC Chamber Newsletter for 3 months\n\n\n\nRound Sponsor: $100\n\n*Digital Signage\n\n*Inclusion in Program\n\n*Listed on Answer Sheet\n\n\n\nLottery Tree Sponsor: $100\n\n*Digital Signage\n\n*Inclusion in Program\n\n*Announced at the Event
X-ALT-DESC;FMTTYPE=text/html:<h1 style="text-align: center\;"><u><em><strong>Join us for our 6th Annual Music Trivia Night!&nbsp\;</strong></em></u></h1>\n\n<h2 style="text-align: center\;">We&#39\;re Gonna Party Like It&#39\;s 1999!<br />\n<br />\n<u><em><strong>Presented by: </strong></em></u><br />\nSSM Health DePaul Hospital- St. Louis<br />\n<br />\n<u><em><strong>With: </strong></em></u><br />\nBig Papa G Entertainment</h2>\n\n<h3 style="text-align: center\;">Saturday\, April 17th\, 2021<br />\n<em><strong>James J. Eagan Center</strong></em><br />\nFlorissant\, MO 63031<br />\nDoors Open at 6 pm<br />\nTrivia Begins at 7 pm&nbsp\;<br />\n<br />\nMusic Trivia Questions from all Era&#39\;s with a decorating theme of the 1990&#39\;s!</h3>\n\n<div style="text-align: center\;">\n<h3 style="font-weight: normal\; line-height: 1.2\; color: rgb(51\, 51\, 51)\; font-family: sans-serif\, Arial\, Verdana\, " text-align:="" trebuchet=""><strong><em>Regular Tables of Eight are $160</em></strong></h3>\n</div>\n\n<h3 style="text-align: center\;"><strong>Be a VIP! </strong><br />\n<u><em><strong>Get a VIP Table for $250</strong></em><br />\nIncludes:</u><br />\nTable of Eight<br />\nAccess to the VIP Party Tent<br />\nFood<br />\nDrinks<br />\nMulligans<br />\nPriority Seating</h3>\n&nbsp\;\n\n<h2 style="text-align: center\;"><strong>Be a Sponsor!</strong></h2>\n\n<h3 style="text-align: center\;"><strong><u><em>Event Sponsor: $500</em></u></strong><br />\n*VIP Table of Eight<br />\n*Round Sponsorship<br />\n*Digital Signage<br />\n*Included in all Pre &amp\; Post Press Releases<br />\n*Listed on the GNC Chamber Website &amp\; Social Media<br />\n*Promo Materials on all tables<br />\n*Full Page Ad in Program<br />\n*Listed on ALL Answer Sheets<br />\n*Announced at the Event<br />\n*Full Page Ad in the GNC Chamber Newsletter for 2 months<br />\n*1/2 Page in the GNC Chamber Newsletter for 6 months<br />\n<br />\n<u><em><strong>VIP Party Tent Sponsor: $350</strong></em></u><br />\n*VIP Table of Eight<br />\n*Digital Signage<br />\n*Promo Material on Tables<br />\n*Listed in the Program<br />\n*Announced at the Event<br />\n*Business Card in the GNC Chamber Newsletter for 6 months<br />\n<br />\n<u><em><strong>VIP Food &amp\; Bar Sponsor: $250</strong></em></u><br />\n*Digital Signage<br />\n*Signage at VIP Party Tent &amp\; at the Bars<br />\n*Inclusion in Program<br />\n*Business Card Ad in GNC Chamber Newsletter for 3 months<br />\n<br />\n<u><em><strong>Round Sponsor: $100</strong></em></u><br />\n*Digital Signage<br />\n*Inclusion in Program<br />\n*Listed on Answer Sheet<br />\n<br />\n<u><em><strong>Lottery Tree Sponsor: $100</strong></em></u><br />\n*Digital Signage<br />\n*Inclusion in Program<br />\n*Announced at the Event<br />\n<br />\n<br />\n<br />\n<br />\n<br />\n&nbsp\;</h3>\n
LOCATION:James J. Eagan Center 1 James J. Eagan Dr. Florissant\, MO 63033
UID:e.1302.20247
SEQUENCE:3
DTSTAMP:20260425T113416Z
URL:https://public.greaternorthcountychamber.com/events/details/2021-music-trivia-we-re-gonna-party-like-it-s-1999-20247
END:VEVENT

END:VCALENDAR
