BEGIN:VCALENDAR
VERSION:2.0
PRODID:-//ChamberMaster//Event Calendar 2.0//EN
METHOD:PUBLISH
X-PUBLISHED-TTL:P3D
REFRESH-INTERVAL:P3D
CALSCALE:GREGORIAN
BEGIN:VEVENT
DTSTART:20210515T150000Z
DTEND:20210515T180000Z
X-MICROSOFT-CDO-ALLDAYEVENT:FALSE
SUMMARY:2021 Business Showcase & Career Fair
DESCRIPTION:2021 Business Showcase & Career Fair\n\nSaturday\, May 15th\, 2021\n\n10 am to 1 pm\n\nJames J. Eagan Center\n\nCo-Sponsored by: \n\nCity of Florissant\n\n \n\nPresented by:\n\nNorth County\, Inc\n\nSt. Louis Community College\n\nVeterans United Home Loans\n\n\n\nJoin us for a FREE Career Workshop at 9 am at the James J. Eagan Center!\n\n"How to Put Your Best Foot Forward When Searching for a Job"\n\n\n\nMichelle Martin Bonner\, MACM\, JD\n\nDirector of Recruitment\, Learning & Retention\n\n\n\n&\n\n\n\nThomas Pullen\n\n\n\nwith Saint Louis Community College\n\n \n\nShowcase your business to the North County Community and recruit new talent!\n\nPast events have drawn in over 1000 people!\n\nDon't miss this great opportunity to let the community know who you are and where you are!\n\n\n\nVendor Booth Pricing:\n\nGNC Chamber MEMBER:\n\nSingle Booth: $99\n\nDouble Booth: $149\n\nNon-Profit Booth: 49\n\nElectricity: $25 (first come\, first served)\n\n\n\nNon-Member Pricing:\n\nSingle Booth: $349\n\nDouble Booth: $399\n\nNon-Profit: $299\n\nElectricity: $75\n\n\n\nBe a HOT SPOT Booth!\n\nAdd $50 to your Booth Price!\n\nLimited to 15 Booths\n\nGuests will want to visit your booth to get their card punched-once they visit all booths they will be entered into a drawing for a prize package!\n\n\n\nBe a Sponsor!\n\nPresenting Sponsor: $1500\n\n*Double Booth\n\n*Full Page Ad in Program\n\n*Recognition on all Signage\, Pre & Post Press Releases\, GNC Chamber Website & Social Media\n\n*Linked Logo on Website & Social Media\n\n*Logo on All Promotional Flyers\n\n*Inclusion of Company Materials in Guest Goodie Bags\n\n\n\nCareer Fair Workshop Sponsor: $1000\n\n*Single Booth\n\n*1/2 Page Ad in Program\n\n*Recognition on all Signage\, Pre & Post Press Releases\, GNC Chamber Website & Social Media\n\n*Logo on Event Signage\n\n*Inclusion of Company Materials in Guest Goodie Bags\n\n\n\nBag Sponsor: $500\n\n*Single Booth\n\n*1/4 Page Ad in Program\n\n*Listed on GNC Chamber Website\n\n*Logo on Bags\n\n*Inclusion of Company Materials in Guest Goodie Bags\n\n\n\nProgram Sponsor: $250\n\n*Single Booth\n\n*1/2 Page Ad in Program\n\n*Listed on Website\n\n*Inclusion of Company Materials in Guest Goodie Bags
X-ALT-DESC;FMTTYPE=text/html:<h2 style="text-align: center\;">2021 Business Showcase &amp\; Career Fair<br />\nSaturday\, May 15th\, 2021<br />\n10 am to 1&nbsp\;pm<br />\nJames J. Eagan Center</h2>\n\n<h1 style="text-align: center\;"><u><strong>Co-Sponsored by:&nbsp\;</strong></u><br />\nCity of Florissant</h1>\n\n<div style="text-align: center\;">&nbsp\;</div>\n\n<h2 style="text-align: center\;"><u><strong>Presented by:</strong></u><br />\nNorth County\, Inc<br />\nSt. Louis Community College<br />\nVeterans United Home Loans</h2>\n\n<h2 style="text-align: center\;"><br />\nJoin us for a FREE Career Workshop at 9 am at the James J. Eagan Center!<br />\n&quot\;How to Put Your Best Foot Forward When Searching for a Job&quot\;<br />\n<br />\nMichelle Martin Bonner\, MACM\, JD<br />\nDirector of Recruitment\, Learning &amp\; Retention<br />\n<br />\n&amp\;<br />\n<br />\nThomas Pullen<br />\n<br />\nwith Saint Louis Community College<br />\n&nbsp\;</h2>\n\n<div style="text-align: center\;">Showcase your business to the North County Community and recruit new talent!<br />\nPast events have drawn in over 1000 people!<br />\nDon&#39\;t miss this great opportunity to let the community know who you are and where you are!<br />\n<br />\n<u><em><strong>Vendor Booth Pricing:</strong></em><br />\n<strong><span style="background-color:#FFD700\;">GNC Chamber MEMBER:</span></strong></u><br />\nSingle Booth: $99<br />\nDouble Booth: $149<br />\nNon-Profit Booth: 49<br />\nElectricity: $25 (first come\, first served)<br />\n<br />\n<span style="color:#B22222\;"><u><strong>Non-Member Pricing:</strong></u></span><br />\nSingle Booth: $349<br />\nDouble Booth: $399<br />\nNon-Profit: $299<br />\nElectricity: $75<br />\n<br />\n<span style="background-color:#DAA520\;">Be a HOT SPOT Booth!</span><br />\nAdd $50 to your Booth Price!<br />\nLimited to 15 Booths<br />\nGuests will want to visit your booth to get their card punched-once they visit all booths they will be entered into a drawing for a prize package!<br />\n<br />\n<u><em><strong>Be a Sponsor!</strong></em></u><br />\n<em><strong>Presenting Sponsor: $1500</strong></em><br />\n*Double Booth<br />\n*Full Page Ad in Program<br />\n*Recognition on all Signage\, Pre &amp\; Post Press Releases\, GNC Chamber Website &amp\; Social Media<br />\n*Linked Logo on Website &amp\; Social Media<br />\n*Logo on All Promotional Flyers<br />\n*Inclusion of Company Materials in Guest Goodie Bags<br />\n<br />\n<em><strong>Career Fair Workshop Sponsor: $1000</strong></em><br />\n*Single Booth<br />\n*1/2 Page Ad in Program<br />\n*Recognition on all Signage\, Pre &amp\; Post Press Releases\, GNC Chamber Website &amp\; Social Media<br />\n*Logo on Event Signage<br />\n*Inclusion of Company Materials in Guest Goodie Bags<br />\n<br />\n<em><strong>Bag Sponsor: $500</strong></em><br />\n*Single Booth<br />\n*1/4 Page Ad in Program<br />\n*Listed on GNC Chamber Website<br />\n*Logo on Bags<br />\n*Inclusion of Company Materials in Guest Goodie Bags<br />\n<br />\n<em><strong>Program Sponsor: $250</strong></em><br />\n*Single Booth<br />\n*1/2 Page Ad in Program<br />\n*Listed on Website<br />\n*Inclusion of Company Materials in Guest Goodie Bags</div>\n
LOCATION:James J. Eagan Center Florissant\, MO 63033
UID:e.1302.20251
SEQUENCE:3
DTSTAMP:20260425T113121Z
URL:https://public.greaternorthcountychamber.com/events/details/2021-business-showcase-career-fair-20251
END:VEVENT

END:VCALENDAR
