BEGIN:VCALENDAR
VERSION:2.0
PRODID:-//ChamberMaster//Event Calendar 2.0//EN
METHOD:PUBLISH
X-PUBLISHED-TTL:P3D
REFRESH-INTERVAL:P3D
CALSCALE:GREGORIAN
BEGIN:VEVENT
DTSTART:20240913T230000Z
DTEND:20240914T030000Z
X-MICROSOFT-CDO-ALLDAYEVENT:FALSE
SUMMARY:18th Annual Rebuilding Together St. Louis Trivia Night
DESCRIPTION:Our 18th annual Trivia Night is on Friday\, September 13th. The Captain's tables feature prominent table placement\, decorated table\, snacks\, server so you don't have to go to the bar yourself\, plus delicious pasta samples from Bartolino's South Italian Cuisine.. In addition to 10 rounds of trivia there will be a silent auction with items such as hotel stays\, Cardinal tickets\, St. Louis Blues tickets\, and much\, much more. There will also be a 50/50 raffle and a chance for a wheel barrow of booze. Don't miss out on a night of fun and games! Must be 21 years old to attend.
X-ALT-DESC;FMTTYPE=text/html:<span style="color: rgb(26\, 25\, 26)\; font-family: Arial\, sans-serif\; font-size: 15px\;">Our 18th annual Trivia Night is on Friday\, September 13th. The Captain&#39\;s tables feature prominent table placement\, decorated table\, snacks\, server so you don&#39\;t have to go to the bar yourself\, plus delicious pasta samples from Bartolino&#39\;s South Italian Cuisine.. In addition to 10 rounds of trivia there will be a silent auction with items such as hotel stays\, Cardinal tickets\, St. Louis Blues tickets\, and much\, much more.&nbsp\;There will also be a 50/50 raffle and a chance for a wheel barrow of booze.&nbsp\;Don&#39\;t miss out on a night of fun and games! Must be 21 years old to attend.</span>
LOCATION:5850 Elizabeth Electrician's Hall Local One
UID:e.1302.21215
SEQUENCE:3
DTSTAMP:20260421T133533Z
URL:https://public.greaternorthcountychamber.com/events/details/18th-annual-rebuilding-together-st-louis-trivia-night-21215
END:VEVENT

END:VCALENDAR
