BEGIN:VCALENDAR
VERSION:2.0
PRODID:-//ChamberMaster//Event Calendar 2.0//EN
METHOD:PUBLISH
X-PUBLISHED-TTL:P3D
REFRESH-INTERVAL:P3D
CALSCALE:GREGORIAN
BEGIN:VEVENT
DTSTART:20240921T220000Z
DTEND:20240922T021500Z
X-MICROSOFT-CDO-ALLDAYEVENT:FALSE
SUMMARY:15th Annual Light the Darkness Glow Run
DESCRIPTION:15th Annual Light the Darkness Glow Run on September 21st\, 2024 at St. Ferdinand Park. Food Vendors\, games\, and raffles begin at 5pm and the race begins at 7:15pm 5K and then 1 mile. Registration is $25 prior to August 29th and $30 after August 29th.
X-ALT-DESC;FMTTYPE=text/html:15th Annual Light the Darkness Glow Run on September 21st\, 2024 at St. Ferdinand Park. Food Vendors\, games\, and raffles begin at 5pm and the race begins at 7:15pm 5K and then 1 mile. Registration is $25 prior to August 29th and $30 after August 29th.&nbsp\;&nbsp\;
LOCATION:St. Ferdinand Park
UID:e.1302.21242
SEQUENCE:3
DTSTAMP:20260421T120005Z
URL:https://public.greaternorthcountychamber.com/events/details/15th-annual-light-the-darkness-glow-run-21242
END:VEVENT

END:VCALENDAR
